BEGIN:VCALENDAR
VERSION:2.0
PRODID:-//Porslahden Venekerho ry - ECPv6.15.18//NONSGML v1.0//EN
CALSCALE:GREGORIAN
METHOD:PUBLISH
X-WR-CALNAME:Porslahden Venekerho ry
X-ORIGINAL-URL:https://www.plvk.fi
X-WR-CALDESC:Tapahtumat Porslahden Venekerho ry
REFRESH-INTERVAL;VALUE=DURATION:PT1H
X-Robots-Tag:noindex
X-PUBLISHED-TTL:PT1H
BEGIN:VTIMEZONE
TZID:Europe/Helsinki
BEGIN:DAYLIGHT
TZOFFSETFROM:+0200
TZOFFSETTO:+0300
TZNAME:EEST
DTSTART:20240331T010000
END:DAYLIGHT
BEGIN:STANDARD
TZOFFSETFROM:+0300
TZOFFSETTO:+0200
TZNAME:EET
DTSTART:20241027T010000
END:STANDARD
BEGIN:DAYLIGHT
TZOFFSETFROM:+0200
TZOFFSETTO:+0300
TZNAME:EEST
DTSTART:20250330T010000
END:DAYLIGHT
BEGIN:STANDARD
TZOFFSETFROM:+0300
TZOFFSETTO:+0200
TZNAME:EET
DTSTART:20251026T010000
END:STANDARD
BEGIN:DAYLIGHT
TZOFFSETFROM:+0200
TZOFFSETTO:+0300
TZNAME:EEST
DTSTART:20260329T010000
END:DAYLIGHT
BEGIN:STANDARD
TZOFFSETFROM:+0300
TZOFFSETTO:+0200
TZNAME:EET
DTSTART:20261025T010000
END:STANDARD
END:VTIMEZONE
BEGIN:VEVENT
DTSTART;TZID=Europe/Helsinki:20250913T100000
DTEND;TZID=Europe/Helsinki:20250913T170000
DTSTAMP:20260424T231747
CREATED:20250824T163007Z
LAST-MODIFIED:20250824T163007Z
UID:3815-1757757600-1757782800@www.plvk.fi
SUMMARY:Sulkaniemen halkotalkoot
DESCRIPTION:Sulkaniemessä järjestetään halkotalkoot lauantaina 13.9. klo 10 alkaen. Lämpimästi tervetuloa Sankoin joukoin talkoilemaan.
URL:https://www.plvk.fi/index.php/tapahtuma/sulkaniemen-halkotalkoot/
LOCATION:Sulkaniemi
CATEGORIES:Saaripaikat,Talkoot
END:VEVENT
BEGIN:VEVENT
DTSTART;TZID=Europe/Helsinki:20250921T180000
DTEND;TZID=Europe/Helsinki:20250921T233000
DTSTAMP:20260424T231747
CREATED:20250923T190412Z
LAST-MODIFIED:20250923T190412Z
UID:3891-1758477600-1758497400@www.plvk.fi
SUMMARY:Talvilukitus alkaa häkeissä
DESCRIPTION:Talvisäilytysalueiden isojen liukuovien riippulukot vaihdetaan talvilukoiksi sunnuntaina 21.9.2024 klo 18.00. Talvilukkoihin on avain ainoastaan hallituksen jäsenillä\, joten autoja ei voi pysäköidä häkkiin\, vaan ne tulee pysäköidä kerhotalon edessä olevalle pysäköintialueelle. Pikkuhäkissä olevat trailerit tulisi siirtää pois häkistä sunnuntaina 21.9.2025 klo 18 mennessä tai vähintäänkin sijoittaa siten\, että veneiden nosto häkkiin on mahdollista ja nostoautoilla on tilaa toimia.
URL:https://www.plvk.fi/index.php/tapahtuma/talvilukitus-alkaa-hakeissa/
LOCATION:PLVK satamapaikka\, Laiturikuja 1\, Helsinki
CATEGORIES:Talviajan sähköt
END:VEVENT
BEGIN:VEVENT
DTSTART;TZID=Europe/Helsinki:20250924T180000
DTEND;TZID=Europe/Helsinki:20250924T210000
DTSTAMP:20260424T231747
CREATED:20250923T190254Z
LAST-MODIFIED:20250923T190254Z
UID:3889-1758736800-1758747600@www.plvk.fi
SUMMARY:Pukkitalkoot
DESCRIPTION:Perinteiset pukkitalkoot pidetään 24.09.2025 klo 18.00 alkaen. Toivomme runsasta osanottoa.
URL:https://www.plvk.fi/index.php/tapahtuma/pukkitalkoot/
LOCATION:PLVK satamapaikka\, Laiturikuja 1\, Helsinki
CATEGORIES:Talkoot
END:VEVENT
BEGIN:VEVENT
DTSTART;TZID=Europe/Helsinki:20250927T070000
DTEND;TZID=Europe/Helsinki:20250927T140000
DTSTAMP:20260424T231747
CREATED:20250824T162400Z
LAST-MODIFIED:20250824T162400Z
UID:3805-1758956400-1758981600@www.plvk.fi
SUMMARY:Yhteisnosto 1
DESCRIPTION:Alustava veneenlaskupäivä 8.6.2026 (vahvistetaan keväällä 2026)
URL:https://www.plvk.fi/index.php/tapahtuma/yhteisnosto-1/
LOCATION:PLVK satamapaikka\, Laiturikuja 1\, Helsinki
CATEGORIES:Yhteisnosto
END:VEVENT
END:VCALENDAR