BEGIN:VCALENDAR
VERSION:2.0
PRODID:-//Porslahden Venekerho ry - ECPv6.15.18//NONSGML v1.0//EN
CALSCALE:GREGORIAN
METHOD:PUBLISH
X-WR-CALNAME:Porslahden Venekerho ry
X-ORIGINAL-URL:https://www.plvk.fi
X-WR-CALDESC:Tapahtumat Porslahden Venekerho ry
REFRESH-INTERVAL;VALUE=DURATION:PT1H
X-Robots-Tag:noindex
X-PUBLISHED-TTL:PT1H
BEGIN:VTIMEZONE
TZID:Europe/Helsinki
BEGIN:DAYLIGHT
TZOFFSETFROM:+0200
TZOFFSETTO:+0300
TZNAME:EEST
DTSTART:20240331T010000
END:DAYLIGHT
BEGIN:STANDARD
TZOFFSETFROM:+0300
TZOFFSETTO:+0200
TZNAME:EET
DTSTART:20241027T010000
END:STANDARD
BEGIN:DAYLIGHT
TZOFFSETFROM:+0200
TZOFFSETTO:+0300
TZNAME:EEST
DTSTART:20250330T010000
END:DAYLIGHT
BEGIN:STANDARD
TZOFFSETFROM:+0300
TZOFFSETTO:+0200
TZNAME:EET
DTSTART:20251026T010000
END:STANDARD
BEGIN:DAYLIGHT
TZOFFSETFROM:+0200
TZOFFSETTO:+0300
TZNAME:EEST
DTSTART:20260329T010000
END:DAYLIGHT
BEGIN:STANDARD
TZOFFSETFROM:+0300
TZOFFSETTO:+0200
TZNAME:EET
DTSTART:20261025T010000
END:STANDARD
END:VTIMEZONE
BEGIN:VEVENT
DTSTART;TZID=Europe/Helsinki:20251011T070000
DTEND;TZID=Europe/Helsinki:20251011T140000
DTSTAMP:20260424T193616
CREATED:20250824T162530Z
LAST-MODIFIED:20250824T162530Z
UID:3809-1760166000-1760191200@www.plvk.fi
SUMMARY:Yhteisnosto 2
DESCRIPTION:Alustava veneenlaskupäivä 23.5.2026 (vahvistetaan keväällä 2026)
URL:https://www.plvk.fi/index.php/tapahtuma/yhteisnosto-2/
LOCATION:PLVK satamapaikka\, Laiturikuja 1\, Helsinki
END:VEVENT
BEGIN:VEVENT
DTSTART;TZID=Europe/Helsinki:20251023T080000
DTEND;TZID=Europe/Helsinki:20251023T170000
DTSTAMP:20260424T193616
CREATED:20250923T190612Z
LAST-MODIFIED:20250923T190612Z
UID:3893-1761206400-1761238800@www.plvk.fi
SUMMARY:Trailerien talvisäilytyksen varaus
DESCRIPTION:Traileriveneiden omatoiminen nosto nostopäivinä klo 14 jälkeen. Talvisäilytykseen jätettävät trailerilla olevat veneet ilmoitetaan kerhosovelluksen kalenteriin päivälle 23.10. HUOM! Kyseessä ei ole nostopäivä\, vaan ilmoittautumisella varaat traileriveneelle paikan talveksi.
URL:https://www.plvk.fi/index.php/tapahtuma/trailerien-talvisailytyksen-varaus/
LOCATION:PLVK satamapaikka\, Laiturikuja 1\, Helsinki
CATEGORIES:Ilmoittautuminen,Yhteisnosto
END:VEVENT
BEGIN:VEVENT
DTSTART;TZID=Europe/Helsinki:20251025T070000
DTEND;TZID=Europe/Helsinki:20251025T140000
DTSTAMP:20260424T193616
CREATED:20250824T162659Z
LAST-MODIFIED:20250824T162659Z
UID:3811-1761375600-1761400800@www.plvk.fi
SUMMARY:Yhteisnosto 3
DESCRIPTION:Alustava veneenlaskupäivä 9.5.2026 (vahvistetaan keväällä 2026)
URL:https://www.plvk.fi/index.php/tapahtuma/yhteisnosto-3/
LOCATION:PLVK satamapaikka\, Laiturikuja 1\, Helsinki
CATEGORIES:Yhteisnosto
END:VEVENT
END:VCALENDAR