BEGIN:VCALENDAR
VERSION:2.0
PRODID:-//Porslahden Venekerho ry - ECPv6.15.18//NONSGML v1.0//EN
CALSCALE:GREGORIAN
METHOD:PUBLISH
X-ORIGINAL-URL:https://www.plvk.fi
X-WR-CALDESC:Tapahtumat Porslahden Venekerho ry
REFRESH-INTERVAL;VALUE=DURATION:PT1H
X-Robots-Tag:noindex
X-PUBLISHED-TTL:PT1H
BEGIN:VTIMEZONE
TZID:Europe/Helsinki
BEGIN:DAYLIGHT
TZOFFSETFROM:+0200
TZOFFSETTO:+0300
TZNAME:EEST
DTSTART:20250330T010000
END:DAYLIGHT
BEGIN:STANDARD
TZOFFSETFROM:+0300
TZOFFSETTO:+0200
TZNAME:EET
DTSTART:20251026T010000
END:STANDARD
BEGIN:DAYLIGHT
TZOFFSETFROM:+0200
TZOFFSETTO:+0300
TZNAME:EEST
DTSTART:20260329T010000
END:DAYLIGHT
BEGIN:STANDARD
TZOFFSETFROM:+0300
TZOFFSETTO:+0200
TZNAME:EET
DTSTART:20261025T010000
END:STANDARD
BEGIN:DAYLIGHT
TZOFFSETFROM:+0200
TZOFFSETTO:+0300
TZNAME:EEST
DTSTART:20270328T010000
END:DAYLIGHT
BEGIN:STANDARD
TZOFFSETFROM:+0300
TZOFFSETTO:+0200
TZNAME:EET
DTSTART:20271031T010000
END:STANDARD
END:VTIMEZONE
BEGIN:VEVENT
DTSTART;TZID=Europe/Helsinki:20260213T180000
DTEND;TZID=Europe/Helsinki:20260215T180000
DTSTAMP:20260424T131114
CREATED:20251116T203650Z
LAST-MODIFIED:20251116T203650Z
UID:3954-1771005600-1771178400@www.plvk.fi
SUMMARY:Sähköt telakka-alueella
DESCRIPTION:Talvikaudella sähköt ovat päällä perjantaina klo 18.00 – sunnuntai klo 18.00 välisen ajan. Alustavat ajankohdat ovat: \n\n19.12.2025 – 21.12.2025\n16.01.2026 – 18.01.2026\n13.02.2026 – 15.02.2026\n21.3.2026 sähköt jätetään päälle
URL:https://www.plvk.fi/index.php/tapahtuma/sahkot-telakka-alueella-5/
LOCATION:PLVK satamapaikka\, Laiturikuja 1\, Helsinki
CATEGORIES:Talviajan sähköt
END:VEVENT
END:VCALENDAR