BEGIN:VCALENDAR
VERSION:2.0
PRODID:-//Porslahden Venekerho ry - ECPv6.15.18//NONSGML v1.0//EN
CALSCALE:GREGORIAN
METHOD:PUBLISH
X-ORIGINAL-URL:https://www.plvk.fi
X-WR-CALDESC:Tapahtumat Porslahden Venekerho ry
REFRESH-INTERVAL;VALUE=DURATION:PT1H
X-Robots-Tag:noindex
X-PUBLISHED-TTL:PT1H
BEGIN:VTIMEZONE
TZID:Europe/Helsinki
BEGIN:DAYLIGHT
TZOFFSETFROM:+0200
TZOFFSETTO:+0300
TZNAME:EEST
DTSTART:20250330T010000
END:DAYLIGHT
BEGIN:STANDARD
TZOFFSETFROM:+0300
TZOFFSETTO:+0200
TZNAME:EET
DTSTART:20251026T010000
END:STANDARD
BEGIN:DAYLIGHT
TZOFFSETFROM:+0200
TZOFFSETTO:+0300
TZNAME:EEST
DTSTART:20260329T010000
END:DAYLIGHT
BEGIN:STANDARD
TZOFFSETFROM:+0300
TZOFFSETTO:+0200
TZNAME:EET
DTSTART:20261025T010000
END:STANDARD
BEGIN:DAYLIGHT
TZOFFSETFROM:+0200
TZOFFSETTO:+0300
TZNAME:EEST
DTSTART:20270328T010000
END:DAYLIGHT
BEGIN:STANDARD
TZOFFSETFROM:+0300
TZOFFSETTO:+0200
TZNAME:EET
DTSTART:20271031T010000
END:STANDARD
END:VTIMEZONE
BEGIN:VEVENT
DTSTART;VALUE=DATE:20260501
DTEND;VALUE=DATE:20260502
DTSTAMP:20260424T112406
CREATED:20251116T204131Z
LAST-MODIFIED:20251116T204131Z
UID:3964-1777593600-1777679999@www.plvk.fi
SUMMARY:Vappu 2026
DESCRIPTION:
URL:https://www.plvk.fi/index.php/tapahtuma/vappu-2026/
CATEGORIES:Pyhäpäivä
END:VEVENT
BEGIN:VEVENT
DTSTART;TZID=Europe/Helsinki:20260506T150000
DTEND;TZID=Europe/Helsinki:20260506T200000
DTSTAMP:20260424T112406
CREATED:20260305T163133Z
LAST-MODIFIED:20260305T163133Z
UID:4013-1778079600-1778097600@www.plvk.fi
SUMMARY:Katsastus ja sammutinhuolto
DESCRIPTION:Tutustu katsastusohjeisiin täällä>> \nYhteiskatsastuspäivinä katsastukset aloitetaan noin klo 16:30 alkaen. Sammutinhuolto on paikalla klo 15-19.
URL:https://www.plvk.fi/index.php/tapahtuma/katsastus-ja-sammutinhuolto/
LOCATION:PLVK satamapaikka\, Laiturikuja 1\, Helsinki
CATEGORIES:Koulutus,Sammutinhuolto
END:VEVENT
BEGIN:VEVENT
DTSTART;TZID=Europe/Helsinki:20260509T070000
DTEND;TZID=Europe/Helsinki:20260509T150000
DTSTAMP:20260424T112406
CREATED:20251116T204610Z
LAST-MODIFIED:20251116T204610Z
UID:3968-1778310000-1778338800@www.plvk.fi
SUMMARY:Yhteislasku 2
DESCRIPTION:Katso yhteislaskun ohjeet>>
URL:https://www.plvk.fi/index.php/tapahtuma/yhteislasku-2/
LOCATION:PLVK satamapaikka\, Laiturikuja 1\, Helsinki
CATEGORIES:Yhteislasku
END:VEVENT
BEGIN:VEVENT
DTSTART;VALUE=DATE:20260514
DTEND;VALUE=DATE:20260515
DTSTAMP:20260424T112406
CREATED:20251116T204023Z
LAST-MODIFIED:20251116T204023Z
UID:3960-1778716800-1778803199@www.plvk.fi
SUMMARY:Helatorstai 2026
DESCRIPTION:
URL:https://www.plvk.fi/index.php/tapahtuma/helatorstai-2026/
CATEGORIES:Pyhäpäivä
END:VEVENT
BEGIN:VEVENT
DTSTART;VALUE=DATE:20260516
DTEND;VALUE=DATE:20260517
DTSTAMP:20260424T112406
CREATED:20260417T201747Z
LAST-MODIFIED:20260417T201747Z
UID:4038-1778889600-1778975999@www.plvk.fi
SUMMARY:Sulkaniemen kevättalkoot
DESCRIPTION:Kevättalkoot Sulkaniemen saaripaikassa järjestetään la 16.5.2026\, lämpimästi tervetuloa talkoisiin.
URL:https://www.plvk.fi/index.php/tapahtuma/sulkaniemen-kevattalkoot/
LOCATION:Sulkaniemi
CATEGORIES:Saaripaikat,Talkoot
END:VEVENT
BEGIN:VEVENT
DTSTART;TZID=Europe/Helsinki:20260520T150000
DTEND;TZID=Europe/Helsinki:20260520T200000
DTSTAMP:20260424T112406
CREATED:20260305T163231Z
LAST-MODIFIED:20260305T163231Z
UID:4015-1779289200-1779307200@www.plvk.fi
SUMMARY:Katsastus ja sammutinhuolto
DESCRIPTION:Tutustu katsastusohjeisiin täällä>> \nYhteiskatsastuspäivinä katsastukset aloitetaan noin klo 16:30 alkaen. Sammutinhuolto on paikalla klo 15-19.
URL:https://www.plvk.fi/index.php/tapahtuma/katsastus-ja-sammutinhuolto-2/
LOCATION:PLVK satamapaikka\, Laiturikuja 1\, Helsinki
CATEGORIES:Katsastus,Sammutinhuolto
END:VEVENT
BEGIN:VEVENT
DTSTART;TZID=Europe/Helsinki:20260523T070000
DTEND;TZID=Europe/Helsinki:20260523T150000
DTSTAMP:20260424T112406
CREATED:20251116T204649Z
LAST-MODIFIED:20251116T204649Z
UID:3970-1779519600-1779548400@www.plvk.fi
SUMMARY:Yhteislasku 3
DESCRIPTION:Katso yhteislaskun ohjeet>>
URL:https://www.plvk.fi/index.php/tapahtuma/yhteislasku-3/
LOCATION:PLVK satamapaikka\, Laiturikuja 1\, Helsinki
CATEGORIES:Yhteislasku
END:VEVENT
END:VCALENDAR